﻿BEGIN:VCALENDAR
VERSION:2.0
PRODID:-//Jazzic Instinct - ECPv6.5.1.5//NONSGML v1.0//EN
CALSCALE:GREGORIAN
METHOD:PUBLISH
X-ORIGINAL-URL:https://www.jazzic-instinct.fr
X-WR-CALDESC:évènements pour Jazzic Instinct
REFRESH-INTERVAL;VALUE=DURATION:PT1H
X-Robots-Tag:noindex
X-PUBLISHED-TTL:PT1H
BEGIN:VTIMEZONE
TZID:Europe/Paris
BEGIN:DAYLIGHT
TZOFFSETFROM:+0100
TZOFFSETTO:+0200
TZNAME:CEST
DTSTART:20180325T010000
END:DAYLIGHT
BEGIN:STANDARD
TZOFFSETFROM:+0200
TZOFFSETTO:+0100
TZNAME:CET
DTSTART:20181028T010000
END:STANDARD
END:VTIMEZONE
BEGIN:VEVENT
DTSTART;TZID=Europe/Paris:20180325T170000
DTEND;TZID=Europe/Paris:20180325T190000
DTSTAMP:20260424T182720
CREATED:20180306T225246Z
LAST-MODIFIED:20180306T225424Z
UID:572-1521997200-1522004400@www.jazzic-instinct.fr
SUMMARY:Rencontre de chorales
DESCRIPTION:Concerts des chorales de Jazzic’ Instinct\, de l’EMCR et des 4 z’arts\, à Juziers (78820).
URL:https://www.jazzic-instinct.fr/calendrier/rencontre-de-chorales/
CATEGORIES:Concert d'élèves
END:VEVENT
END:VCALENDAR