﻿BEGIN:VCALENDAR
VERSION:2.0
PRODID:-//Jazzic Instinct - ECPv6.5.1.5//NONSGML v1.0//EN
CALSCALE:GREGORIAN
METHOD:PUBLISH
X-ORIGINAL-URL:https://www.jazzic-instinct.fr
X-WR-CALDESC:évènements pour Jazzic Instinct
REFRESH-INTERVAL;VALUE=DURATION:PT1H
X-Robots-Tag:noindex
X-PUBLISHED-TTL:PT1H
BEGIN:VTIMEZONE
TZID:Europe/Paris
BEGIN:DAYLIGHT
TZOFFSETFROM:+0100
TZOFFSETTO:+0200
TZNAME:CEST
DTSTART:20180325T010000
END:DAYLIGHT
BEGIN:STANDARD
TZOFFSETFROM:+0200
TZOFFSETTO:+0100
TZNAME:CET
DTSTART:20181028T010000
END:STANDARD
END:VTIMEZONE
BEGIN:VEVENT
DTSTART;TZID=Europe/Paris:20180511T200000
DTEND;TZID=Europe/Paris:20180511T213000
DTSTAMP:20260424T151620
CREATED:20180328T185006Z
LAST-MODIFIED:20180328T185006Z
UID:647-1526068800-1526074200@www.jazzic-instinct.fr
SUMMARY:Salon Musical - Ethika
DESCRIPTION:Emilie et Thierry\, deux guitaristes se rencontrent et jouent à leur manière les standards manouche lorsqu’une contrebassiste Karine\, les rejoint et fait prendre à leur répertoire un tournant jazzy plus prononcé… Ethika est né : un trio de cordes qui s’exprime avec conviction et personnalité. \nEmilie Millon : Guitare\nThierry Camba : Guitare\nKarine Blasco : Contrebasse \nRéservation : 06.82.22.14.61
URL:https://www.jazzic-instinct.fr/calendrier/salon-musical-ethika/
CATEGORIES:Salon Musical
END:VEVENT
END:VCALENDAR