﻿BEGIN:VCALENDAR
VERSION:2.0
PRODID:-//Jazzic Instinct - ECPv6.5.1.5//NONSGML v1.0//EN
CALSCALE:GREGORIAN
METHOD:PUBLISH
X-WR-CALNAME:Jazzic Instinct
X-ORIGINAL-URL:https://www.jazzic-instinct.fr
X-WR-CALDESC:évènements pour Jazzic Instinct
REFRESH-INTERVAL;VALUE=DURATION:PT1H
X-Robots-Tag:noindex
X-PUBLISHED-TTL:PT1H
BEGIN:VTIMEZONE
TZID:Europe/Paris
BEGIN:DAYLIGHT
TZOFFSETFROM:+0100
TZOFFSETTO:+0200
TZNAME:CEST
DTSTART:20180325T010000
END:DAYLIGHT
BEGIN:STANDARD
TZOFFSETFROM:+0200
TZOFFSETTO:+0100
TZNAME:CET
DTSTART:20181028T010000
END:STANDARD
END:VTIMEZONE
BEGIN:VEVENT
DTSTART;TZID=Europe/Paris:20180526T203000
DTEND;TZID=Europe/Paris:20180526T223000
DTSTAMP:20260424T151357
CREATED:20180306T230158Z
LAST-MODIFIED:20180306T230158Z
UID:579-1527366600-1527373800@www.jazzic-instinct.fr
SUMMARY:Concert hommage à Nougaro
DESCRIPTION:Concert en hommage à Claude Nougaro\, en partenariat avec le conservatoire de Vernon.
URL:https://www.jazzic-instinct.fr/calendrier/concert-hommage-a-nougaro/
LOCATION:Aubevoye\, 7 Rue Maurice Ravel\, Aubevoye\, 27940
CATEGORIES:Concert d'élèves
END:VEVENT
END:VCALENDAR