﻿BEGIN:VCALENDAR
VERSION:2.0
PRODID:-//Jazzic Instinct - ECPv6.5.1.5//NONSGML v1.0//EN
CALSCALE:GREGORIAN
METHOD:PUBLISH
X-WR-CALNAME:Jazzic Instinct
X-ORIGINAL-URL:https://www.jazzic-instinct.fr
X-WR-CALDESC:évènements pour Jazzic Instinct
REFRESH-INTERVAL;VALUE=DURATION:PT1H
X-Robots-Tag:noindex
X-PUBLISHED-TTL:PT1H
BEGIN:VTIMEZONE
TZID:Europe/Paris
BEGIN:DAYLIGHT
TZOFFSETFROM:+0100
TZOFFSETTO:+0200
TZNAME:CEST
DTSTART:20180325T010000
END:DAYLIGHT
BEGIN:STANDARD
TZOFFSETFROM:+0200
TZOFFSETTO:+0100
TZNAME:CET
DTSTART:20181028T010000
END:STANDARD
END:VTIMEZONE
BEGIN:VEVENT
DTSTART;TZID=Europe/Paris:20180617T170000
DTEND;TZID=Europe/Paris:20180617T190000
DTSTAMP:20260424T133524
CREATED:20180306T230500Z
LAST-MODIFIED:20180307T142404Z
UID:582-1529254800-1529262000@www.jazzic-instinct.fr
SUMMARY:Concert de fin d'année de l'école
DESCRIPTION:Concert de fin d’année des élèves à la salle de la Gidouille au collège Marc Chagall.
URL:https://www.jazzic-instinct.fr/calendrier/concert-de-fin-dannee-de-lecole/
LOCATION:Gasny\, Avenue Du Général De Gaulle\, Gasny\, 27620
CATEGORIES:Concert d'élèves
END:VEVENT
END:VCALENDAR