﻿BEGIN:VCALENDAR
VERSION:2.0
PRODID:-//Jazzic Instinct - ECPv6.5.1.5//NONSGML v1.0//EN
CALSCALE:GREGORIAN
METHOD:PUBLISH
X-WR-CALNAME:Jazzic Instinct
X-ORIGINAL-URL:https://www.jazzic-instinct.fr
X-WR-CALDESC:évènements pour Jazzic Instinct
REFRESH-INTERVAL;VALUE=DURATION:PT1H
X-Robots-Tag:noindex
X-PUBLISHED-TTL:PT1H
BEGIN:VTIMEZONE
TZID:Europe/Paris
BEGIN:DAYLIGHT
TZOFFSETFROM:+0100
TZOFFSETTO:+0200
TZNAME:CEST
DTSTART:20180325T010000
END:DAYLIGHT
BEGIN:STANDARD
TZOFFSETFROM:+0200
TZOFFSETTO:+0100
TZNAME:CET
DTSTART:20181028T010000
END:STANDARD
END:VTIMEZONE
BEGIN:VEVENT
DTSTART;TZID=Europe/Paris:20180626T203000
DTEND;TZID=Europe/Paris:20180626T223000
DTSTAMP:20260424T121244
CREATED:20180306T230736Z
LAST-MODIFIED:20180306T230736Z
UID:585-1530045000-1530052200@www.jazzic-instinct.fr
SUMMARY:Concert hommage à Nougaro
DESCRIPTION:Concert en hommage à Nougaro\, en partenariat avec le conservatoire de Vernon.
URL:https://www.jazzic-instinct.fr/calendrier/concert-hommage-a-nougaro-2/
LOCATION:Conservatoire de Vernon\, 12 Avenue Victor Hugo\, Vernon\, 27200
CATEGORIES:Concert d'élèves
END:VEVENT
END:VCALENDAR