﻿BEGIN:VCALENDAR
VERSION:2.0
PRODID:-//Jazzic Instinct - ECPv6.5.1.5//NONSGML v1.0//EN
CALSCALE:GREGORIAN
METHOD:PUBLISH
X-WR-CALNAME:Jazzic Instinct
X-ORIGINAL-URL:https://www.jazzic-instinct.fr
X-WR-CALDESC:évènements pour Jazzic Instinct
REFRESH-INTERVAL;VALUE=DURATION:PT1H
X-Robots-Tag:noindex
X-PUBLISHED-TTL:PT1H
BEGIN:VTIMEZONE
TZID:Europe/Paris
BEGIN:DAYLIGHT
TZOFFSETFROM:+0100
TZOFFSETTO:+0200
TZNAME:CEST
DTSTART:20180325T010000
END:DAYLIGHT
BEGIN:STANDARD
TZOFFSETFROM:+0200
TZOFFSETTO:+0100
TZNAME:CET
DTSTART:20181028T010000
END:STANDARD
END:VTIMEZONE
BEGIN:VEVENT
DTSTART;TZID=Europe/Paris:20180309T203000
DTEND;TZID=Europe/Paris:20180309T220000
DTSTAMP:20260424T165224
CREATED:20180306T235551Z
LAST-MODIFIED:20180307T143610Z
UID:613-1520627400-1520632800@www.jazzic-instinct.fr
SUMMARY:So Piano Voce (Sarah Nardon & Philippe Delisle)
DESCRIPTION:Concert du duo So Piano Voce (duo lyrique) avec la professeur de chant Sarah Nardon et le professeur de piano Philippe. \nRéservation au 06 72 96 22 82
URL:https://www.jazzic-instinct.fr/calendrier/so-piano-voce-sarah-nardon-philippe-delisle/
LOCATION:EMCR\, 39 rue des ruisselets\, Juziers\, 78820
CATEGORIES:Les profs en concert
END:VEVENT
BEGIN:VEVENT
DTSTART;TZID=Europe/Paris:20180310T200000
DTEND;TZID=Europe/Paris:20180310T220000
DTSTAMP:20260424T165224
CREATED:20180308T210609Z
LAST-MODIFIED:20180308T210632Z
UID:624-1520712000-1520719200@www.jazzic-instinct.fr
SUMMARY:CambaPoupon (Thierry Camba)
DESCRIPTION:Concert du duo de guitares CambaPoupon (blues\, pop) avec le professeur de guitare Thierry.
URL:https://www.jazzic-instinct.fr/calendrier/cambapoupon-thierry-camba/
LOCATION:La Passerelle\, 41 rue nationale\, Rosny-sur-Seine\, 78710
CATEGORIES:Les profs en concert
END:VEVENT
BEGIN:VEVENT
DTSTART;TZID=Europe/Paris:20180316T200000
DTEND;TZID=Europe/Paris:20180316T220000
DTSTAMP:20260424T165224
CREATED:20180306T224906Z
LAST-MODIFIED:20180307T142448Z
UID:570-1521230400-1521237600@www.jazzic-instinct.fr
SUMMARY:Salon Musical - Les élèves de chant de l'école
DESCRIPTION:Les élèves de chant de l’école Jazzic’ Instinct se produiront sur scène. \nRéservation au 06 82 22 14 61
URL:https://www.jazzic-instinct.fr/calendrier/salon-musical-les-eleves-de-chant-de-lecole/
CATEGORIES:Salon Musical
END:VEVENT
BEGIN:VEVENT
DTSTART;TZID=Europe/Paris:20180324T203000
DTEND;TZID=Europe/Paris:20180324T223000
DTSTAMP:20260424T165224
CREATED:20180306T232433Z
LAST-MODIFIED:20180307T142224Z
UID:592-1521923400-1521930600@www.jazzic-instinct.fr
SUMMARY:Kathy Jazz Project (Nicolas Bazin)
DESCRIPTION:Concert du Kathy Jazz Project (Jazz\, Rhythm ‘n’ Blues\, Blues\, Soul) avec le professeur de basse Nicolas. \nGratuit pour les adhérents à  Jazz au Colombier et moins  de 15 ans\n8 € pour les non adhérents. \nRéservation: 06 44 95 52 95 / jeanjacques.chatelain@orange.fr
URL:https://www.jazzic-instinct.fr/calendrier/kathy-jazz-project-nicolas-bazin/
LOCATION:Le Colombier\, Rue de la Ferme\, Magnanville\, 78200
CATEGORIES:Les profs en concert
ORGANIZER;CN="Jazz au Colombier":MAILTO:jeanjacques.chatelain@orange.fr
END:VEVENT
BEGIN:VEVENT
DTSTART;TZID=Europe/Paris:20180325T170000
DTEND;TZID=Europe/Paris:20180325T190000
DTSTAMP:20260424T165224
CREATED:20180306T225246Z
LAST-MODIFIED:20180306T225424Z
UID:572-1521997200-1522004400@www.jazzic-instinct.fr
SUMMARY:Rencontre de chorales
DESCRIPTION:Concerts des chorales de Jazzic’ Instinct\, de l’EMCR et des 4 z’arts\, à Juziers (78820).
URL:https://www.jazzic-instinct.fr/calendrier/rencontre-de-chorales/
CATEGORIES:Concert d'élèves
END:VEVENT
BEGIN:VEVENT
DTSTART;TZID=Europe/Paris:20180330T200000
DTEND;TZID=Europe/Paris:20180330T220000
DTSTAMP:20260424T165224
CREATED:20180306T224311Z
LAST-MODIFIED:20180307T142443Z
UID:565-1522440000-1522447200@www.jazzic-instinct.fr
SUMMARY:Salon Musical - Joccubata
DESCRIPTION:Ce quatuor riche de ses multiples influences a su construire une réelle identité en arrangeant des valses russes façon flamenco ou des airs Syriens sur des rythmiques envoutantes. Ses compositions sont également le reflet de cette grande variété apportant une vraie originalité à un répertoire allant du sud de l’Espagne à l’est de la Russie dans la plus pure tradition tzigane. \nChristian Leroy : Violon\nPascal Trogoff : Clarinette\nChristophe Mege : Guitare\nAnthony La Rosa : Contrebasse \nRéservation au 06 82 22 14 61
URL:https://www.jazzic-instinct.fr/calendrier/salon-musical-joccubata/
CATEGORIES:Salon Musical
END:VEVENT
BEGIN:VEVENT
DTSTART;TZID=Europe/Paris:20180331T210000
DTEND;TZID=Europe/Paris:20180331T230000
DTSTAMP:20260424T165224
CREATED:20180306T232703Z
LAST-MODIFIED:20180306T233307Z
UID:596-1522530000-1522537200@www.jazzic-instinct.fr
SUMMARY:Kathy Jazz Project (Nicolas Bazin)
DESCRIPTION:Concert du Kathy Jazz Project (Jazz\, Rhythm ‘n’ Blues\, Blues\, Soul) avec le professeur de basse Nicolas.
URL:https://www.jazzic-instinct.fr/calendrier/kathy-jazz-project-nicolas-bazin-2/
LOCATION:Le boucanier\, Allée des Îles Eric Tabarly\, Mantes-la-Jolie\, 78200
CATEGORIES:Les profs en concert
END:VEVENT
END:VCALENDAR