﻿BEGIN:VCALENDAR
VERSION:2.0
PRODID:-//Jazzic Instinct - ECPv6.5.1.5//NONSGML v1.0//EN
CALSCALE:GREGORIAN
METHOD:PUBLISH
X-ORIGINAL-URL:https://www.jazzic-instinct.fr
X-WR-CALDESC:évènements pour Jazzic Instinct
REFRESH-INTERVAL;VALUE=DURATION:PT1H
X-Robots-Tag:noindex
X-PUBLISHED-TTL:PT1H
BEGIN:VTIMEZONE
TZID:Europe/Paris
BEGIN:DAYLIGHT
TZOFFSETFROM:+0100
TZOFFSETTO:+0200
TZNAME:CEST
DTSTART:20180325T010000
END:DAYLIGHT
BEGIN:STANDARD
TZOFFSETFROM:+0200
TZOFFSETTO:+0100
TZNAME:CET
DTSTART:20181028T010000
END:STANDARD
END:VTIMEZONE
BEGIN:VEVENT
DTSTART;TZID=Europe/Paris:20180408T170000
DTEND;TZID=Europe/Paris:20180408T190000
DTSTAMP:20260424T165311
CREATED:20180306T225656Z
LAST-MODIFIED:20180306T225656Z
UID:576-1523206800-1523214000@www.jazzic-instinct.fr
SUMMARY:Concerts des chorales
DESCRIPTION:Concerts des chorales de Jazzic’ Instinct\, l’EMCR et de Gasny (les copains d’abord) à Vernon (27200)
URL:https://www.jazzic-instinct.fr/calendrier/concerts-des-chorales/
CATEGORIES:Concert d'élèves
END:VEVENT
BEGIN:VEVENT
DTSTART;TZID=Europe/Paris:20180408T170000
DTEND;TZID=Europe/Paris:20180408T190000
DTSTAMP:20260424T165311
CREATED:20180308T211508Z
LAST-MODIFIED:20180308T211542Z
UID:634-1523206800-1523214000@www.jazzic-instinct.fr
SUMMARY:Concert des ateliers jazz
DESCRIPTION:Concerts des Ateliers Jazz de l’école à L’AEP Le sentier.
URL:https://www.jazzic-instinct.fr/calendrier/concert-des-ateliers-jazz/
LOCATION:AEP Le Sentier\, 12 rue Léo Lagrange\, saint sébastien de morsent\, 27180
CATEGORIES:Concert d'élèves
END:VEVENT
BEGIN:VEVENT
DTSTART;TZID=Europe/Paris:20180413T200000
DTEND;TZID=Europe/Paris:20180413T213000
DTSTAMP:20260424T165311
CREATED:20180328T184818Z
LAST-MODIFIED:20180328T185018Z
UID:645-1523649600-1523655000@www.jazzic-instinct.fr
SUMMARY:Salon Musical - The Jamwalkers
DESCRIPTION:Subtil mélange d’une voix grave\, rocailleuse\, d’une guitare slide et d’une section rythmique précise et efficace. Les Jamwalkers puisent leurs influences dans le Delta-Blues\, le Rock ou la Country et prouvent ainsi qu’il ne s’agit pas de musiques réservées aux groupes américains. \nFabien Guidi : Guitare\, chant\nThibault Perret : Basse\nJulien Hubert : Batterie \nRéservation au 06.82.22.14.61
URL:https://www.jazzic-instinct.fr/calendrier/salon-musical-the-jamwalkers/
CATEGORIES:Salon Musical
END:VEVENT
BEGIN:VEVENT
DTSTART;TZID=Europe/Paris:20180428T200000
DTEND;TZID=Europe/Paris:20180428T220000
DTSTAMP:20260424T165311
CREATED:20180308T210835Z
LAST-MODIFIED:20180308T210955Z
UID:628-1524945600-1524952800@www.jazzic-instinct.fr
SUMMARY:Le SET (Thierry Camba)
DESCRIPTION:Concert du trio Le SET (chansons jazz\, soul\, pop) avec le professeur de guitare Thierry Camba.
URL:https://www.jazzic-instinct.fr/calendrier/le-set-thierry-camba/
CATEGORIES:Les profs en concert
END:VEVENT
BEGIN:VEVENT
DTSTART;TZID=Europe/Paris:20180429T200000
DTEND;TZID=Europe/Paris:20180429T220000
DTSTAMP:20260424T165311
CREATED:20180308T211113Z
LAST-MODIFIED:20180308T211113Z
UID:630-1525032000-1525039200@www.jazzic-instinct.fr
SUMMARY:Le SET (Thierry Camba)
DESCRIPTION:Concert du trio Le SET (chansons jazz\, soul\, pop) avec le professeur de guitare Thierry Camba.
URL:https://www.jazzic-instinct.fr/calendrier/le-set-thierry-camba-2/
CATEGORIES:Les profs en concert
END:VEVENT
BEGIN:VEVENT
DTSTART;TZID=Europe/Paris:20180430T200000
DTEND;TZID=Europe/Paris:20180430T220000
DTSTAMP:20260424T165311
CREATED:20180308T211140Z
LAST-MODIFIED:20180308T211140Z
UID:632-1525118400-1525125600@www.jazzic-instinct.fr
SUMMARY:Le SET (Thierry Camba)
DESCRIPTION:Concert du trio Le SET (chansons jazz\, soul\, pop) avec le professeur de guitare Thierry Camba.
URL:https://www.jazzic-instinct.fr/calendrier/le-set-thierry-camba-3/
CATEGORIES:Les profs en concert
END:VEVENT
END:VCALENDAR