﻿BEGIN:VCALENDAR
VERSION:2.0
PRODID:-//Jazzic Instinct - ECPv6.5.1.5//NONSGML v1.0//EN
CALSCALE:GREGORIAN
METHOD:PUBLISH
X-ORIGINAL-URL:https://www.jazzic-instinct.fr
X-WR-CALDESC:évènements pour Jazzic Instinct
REFRESH-INTERVAL;VALUE=DURATION:PT1H
X-Robots-Tag:noindex
X-PUBLISHED-TTL:PT1H
BEGIN:VTIMEZONE
TZID:Europe/Paris
BEGIN:DAYLIGHT
TZOFFSETFROM:+0100
TZOFFSETTO:+0200
TZNAME:CEST
DTSTART:20180325T010000
END:DAYLIGHT
BEGIN:STANDARD
TZOFFSETFROM:+0200
TZOFFSETTO:+0100
TZNAME:CET
DTSTART:20181028T010000
END:STANDARD
END:VTIMEZONE
BEGIN:VEVENT
DTSTART;TZID=Europe/Paris:20180901T200000
DTEND;TZID=Europe/Paris:20180901T220000
DTSTAMP:20260424T075836
CREATED:20180306T234644Z
LAST-MODIFIED:20180306T235251Z
UID:610-1535832000-1535839200@www.jazzic-instinct.fr
SUMMARY:Uninvited (Nicolas Bazin)
DESCRIPTION:Concert du groupe Uninvited (Tribute to Alanis Morissette) avec le professeur de basse Nicolas Bazin\, dans le cadre du festival Mélimélo’gnes.
URL:https://www.jazzic-instinct.fr/calendrier/uninvited-nicolas-bazin/
LOCATION:Mélimélo’gnes\, Longnes\, 78980
CATEGORIES:Les profs en concert
END:VEVENT
END:VCALENDAR